BEGIN:VCALENDAR
VERSION:2.0
PRODID:-//Tekstilci//Etkinlikler//TR
CALSCALE:GREGORIAN
METHOD:PUBLISH
BEGIN:VEVENT
UID:20233@www.tekstilcirehberi.com
DTSTAMP:20260419T175104Z
SUMMARY:LINEAPELLE 2026-I
DTSTART;VALUE=DATE:20260211
DTEND;VALUE=DATE:20260214
LOCATION:MİLANO
DESCRIPTION:<p>Tekstil\, Konfeksiyon\, Hazır Giyim\, Deri ve Teknolojileri</p>
END:VEVENT
END:VCALENDAR
