BEGIN:VCALENDAR
VERSION:2.0
PRODID:-//Tekstilci//Etkinlikler//TR
CALSCALE:GREGORIAN
METHOD:PUBLISH
BEGIN:VEVENT
UID:20235@www.tekstilcirehberi.com
DTSTAMP:20260419T175050Z
SUMMARY:MAGIC LAS VEGAS 2026-1 (TÜM ALT BÖLÜMLERİYLE)
DTSTART;VALUE=DATE:20260217
DTEND;VALUE=DATE:20260220
LOCATION:LAS VEGAS
DESCRIPTION:<p>Tekstil\, Konfeksiyon\, Hazır Giyim\, Deri ve Teknolojileri</p>
END:VEVENT
END:VCALENDAR
