BEGIN:VCALENDAR
VERSION:2.0
PRODID:-//Tekstilci//Etkinlikler//TR
CALSCALE:GREGORIAN
METHOD:PUBLISH
BEGIN:VEVENT
UID:20236@www.tekstilcirehberi.com
DTSTAMP:20260419T175210Z
SUMMARY:COLLECTION PREMIERE MOSCOW 2026/1
DTSTART;VALUE=DATE:20260217
DTEND;VALUE=DATE:20260221
LOCATION:MOSKOVA
DESCRIPTION:<p>Tekstil\, Hazır Giyim \, Deri ve Teknolojileri</p>
END:VEVENT
END:VCALENDAR
