BEGIN:VCALENDAR
VERSION:2.0
PRODID:-//Tekstilci//Etkinlikler//TR
CALSCALE:GREGORIAN
METHOD:PUBLISH
BEGIN:VEVENT
UID:20238@www.tekstilcirehberi.com
DTSTAMP:20260419T161958Z
SUMMARY:COTERIE-MAGIC NEW YORK 2026-1
DTSTART;VALUE=DATE:20260224
DTEND;VALUE=DATE:20260227
LOCATION:NEW YORK
DESCRIPTION:<p>Tekstil\, Konfeksiyon\, Hazır Giyim\, Deri ve Teknolojileri</p>
END:VEVENT
END:VCALENDAR
