BEGIN:VCALENDAR
VERSION:2.0
PRODID:-//Tekstilci//Etkinlikler//TR
CALSCALE:GREGORIAN
METHOD:PUBLISH
BEGIN:VEVENT
UID:20240@www.tekstilcirehberi.com
DTSTAMP:20260419T135726Z
SUMMARY:EXINTEX 2026
DTSTART;VALUE=DATE:20260310
DTEND;VALUE=DATE:20260314
LOCATION:PUEBLA
DESCRIPTION:<p>Tekstil\,  Konfeksiyon\, Hazır Giyim\, Deri ve Teknolojileri</p>
END:VEVENT
END:VCALENDAR
