BEGIN:VCALENDAR
VERSION:2.0
PRODID:-//Tekstilci//Etkinlikler//TR
CALSCALE:GREGORIAN
METHOD:PUBLISH
BEGIN:VEVENT
UID:20251@www.tekstilcirehberi.com
DTSTAMP:20260419T121613Z
SUMMARY:DENIM PREMIERE VISION 2026 I
DTSTART;VALUE=DATE:20260520
DTEND;VALUE=DATE:20260522
LOCATION:Milano
DESCRIPTION:<p>Tekstil\, Konfeksiyon\, Hazır Giyim\, Deri ve Teknolojileri</p>
END:VEVENT
END:VCALENDAR
