BEGIN:VCALENDAR
VERSION:2.0
PRODID:-//Tekstilci//Etkinlikler//TR
CALSCALE:GREGORIAN
METHOD:PUBLISH
BEGIN:VEVENT
UID:20252@www.tekstilcirehberi.com
DTSTAMP:20260419T135900Z
SUMMARY:THE HOTEL SHOW DUBAI 2026
DTSTART;VALUE=DATE:20260602
DTEND;VALUE=DATE:20260605
LOCATION:DUBAİ
DESCRIPTION:<p>Otel\, Restoran\, Mutfak\, Banyo\, Dekorasyon\, Tekstil\, Malzeme ve Ekipmanları</p>
END:VEVENT
END:VCALENDAR
