BEGIN:VCALENDAR
VERSION:2.0
PRODID:-//Tekstilci//Etkinlikler//TR
CALSCALE:GREGORIAN
METHOD:PUBLISH
BEGIN:VEVENT
UID:20253@www.tekstilcirehberi.com
DTSTAMP:20260419T135619Z
SUMMARY:INDEX &#038\; WORKSPACE DUBAI 2026
DTSTART;VALUE=DATE:20260602
DTEND;VALUE=DATE:20260605
LOCATION:DUBAİ
DESCRIPTION:<p>Uluslararası İç Dizayn\, Tasarım\, Dekorasyon\, Mobilya\, Ev Tekstili\, Aydınlatma ve Ev Gereçleri Fuarı</p>
END:VEVENT
END:VCALENDAR
