BEGIN:VCALENDAR
VERSION:2.0
PRODID:-//Tekstilci//Etkinlikler//TR
CALSCALE:GREGORIAN
METHOD:PUBLISH
BEGIN:VEVENT
UID:20262@www.tekstilcirehberi.com
DTSTAMP:20260419T174007Z
SUMMARY:SOURCE FASHION
DTSTART;VALUE=DATE:20260707
DTEND;VALUE=DATE:20260710
LOCATION:LONDRA
DESCRIPTION:<p>TEKSTİL\, KONFEKSİYON\, HAZIR GİYİM\, DERİ VE TEKNOLOJİLERİ</p>
END:VEVENT
END:VCALENDAR
