BEGIN:VCALENDAR
VERSION:2.0
PRODID:-//Tekstilci//Etkinlikler//TR
CALSCALE:GREGORIAN
METHOD:PUBLISH
BEGIN:VEVENT
UID:20264@www.tekstilcirehberi.com
DTSTAMP:20260420T071953Z
SUMMARY:WHO&#8217\;S NEXT  BIJORCHA  INTERFILIERE  SHOPPE OBJECT PARİS 2026-2
DTSTART;VALUE=DATE:20260905
DTEND;VALUE=DATE:20260908
LOCATION:PARİS
DESCRIPTION:<p>Tekstil\, Konfeksiyon\, Hazır Giyim\, Deri ve Teknolojileri</p>
END:VEVENT
END:VCALENDAR
