BEGIN:VCALENDAR
VERSION:2.0
PRODID:-//Tekstilci//Etkinlikler//TR
CALSCALE:GREGORIAN
METHOD:PUBLISH
BEGIN:VEVENT
UID:20468@www.tekstilcirehberi.com
DTSTAMP:20260419T121521Z
SUMMARY:Textile ETP Annual Conference 2026
DTSTART;VALUE=DATE:20260526
DTEND;VALUE=DATE:20260529
LOCATION:Amsterdam\, Hollanda
DESCRIPTION:<p>Dijital teknolojilerin ve veri odaklı iş modellerinin tekstil ve giyim sektörünü nasıl dönüştürdüğü\,\, Sürdürülebilir Ürünler için Eko-Tasarım Yönetmeliği (ESPR)\, Dijital Ürün Pasaportu (DPP)\, Yapay Zeka Yasası ve Döngüsel Ekonomi girişimleri</p>
END:VEVENT
END:VCALENDAR
