BEGIN:VCALENDAR
VERSION:2.0
PRODID:-//Tekstilci//Etkinlikler//TR
CALSCALE:GREGORIAN
METHOD:PUBLISH
BEGIN:VEVENT
UID:20471@www.tekstilcirehberi.com
DTSTAMP:20260419T154119Z
SUMMARY:ITM 2026 – International Textile Machinery Exhibition
DTSTART;VALUE=DATE:20260609
DTEND;VALUE=DATE:20260614
LOCATION:İstanbul\, Türkiye
DESCRIPTION:<p>Tekstil makineleri ve teknoloji</p>
END:VEVENT
END:VCALENDAR
