BEGIN:VCALENDAR
VERSION:2.0
PRODID:-//Tekstilci//Etkinlikler//TR
CALSCALE:GREGORIAN
METHOD:PUBLISH
BEGIN:VEVENT
UID:20472@www.tekstilcirehberi.com
DTSTAMP:20260419T154441Z
SUMMARY:HIGHTEX 2026 – Technical Textiles &#038\; Nonwoven Exhibition
DTSTART;VALUE=DATE:20260609
DTEND;VALUE=DATE:20260614
LOCATION:İstanbul\, Türkiye
DESCRIPTION:<p>Teknik tekstiller ve nonwoven ürünlere odaklı</p>
END:VEVENT
END:VCALENDAR
