BEGIN:VCALENDAR
VERSION:2.0
PRODID:-//Tekstilci//Etkinlikler//TR
CALSCALE:GREGORIAN
METHOD:PUBLISH
BEGIN:VEVENT
UID:20475@www.tekstilcirehberi.com
DTSTAMP:20260419T175422Z
SUMMARY:International Conference on Textile Engineering (ICTE 2026)
DTSTART;VALUE=DATE:20260823
DTEND;VALUE=DATE:20260825
LOCATION:Roma – İtalya
DESCRIPTION:<p>tekstil mühendisliği\, lif teknolojileri ve üretim prosesleri üzerine akademik kongre</p>
END:VEVENT
END:VCALENDAR
