BEGIN:VCALENDAR
VERSION:2.0
PRODID:-//Tekstilci//Etkinlikler//TR
CALSCALE:GREGORIAN
METHOD:PUBLISH
BEGIN:VEVENT
UID:20480@www.tekstilcirehberi.com
DTSTAMP:20260419T122246Z
SUMMARY:The Fiber Society – Spring Conference
DTSTART;VALUE=DATE:20260520
DTEND;VALUE=DATE:20260523
LOCATION:St. Gallen\, İsviçre
DESCRIPTION:<p>Konferans – fiber bilimi/teknolojisi</p>
END:VEVENT
END:VCALENDAR
