BEGIN:VCALENDAR
VERSION:2.0
PRODID:-//Tekstilci//Etkinlikler//TR
CALSCALE:GREGORIAN
METHOD:PUBLISH
BEGIN:VEVENT
UID:20482@www.tekstilcirehberi.com
DTSTAMP:20260419T135414Z
SUMMARY:Sustainable Apparel &#038\; Textiles Conf. (USA)
DTSTART;VALUE=DATE:20260603
DTEND;VALUE=DATE:20260605
LOCATION:New York\, ABD
DESCRIPTION:<p>Konferans – sürdürülebilirlik/uyum/tedarik</p>
END:VEVENT
END:VCALENDAR
