BEGIN:VCALENDAR
VERSION:2.0
PRODID:-//Tekstilci//Etkinlikler//TR
CALSCALE:GREGORIAN
METHOD:PUBLISH
BEGIN:VEVENT
UID:20483@www.tekstilcirehberi.com
DTSTAMP:20260419T173406Z
SUMMARY:IWTO Congress 2026
DTSTART;VALUE=DATE:20260624
DTEND;VALUE=DATE:20260627
LOCATION:Dalang\, Çin
DESCRIPTION:<p>Kongre – yün tekstil ekosistemi</p>
END:VEVENT
END:VCALENDAR
