BEGIN:VCALENDAR
VERSION:2.0
PRODID:-//Tekstilci//Etkinlikler//TR
CALSCALE:GREGORIAN
METHOD:PUBLISH
BEGIN:VEVENT
UID:20486@www.tekstilcirehberi.com
DTSTAMP:20260419T203506Z
SUMMARY:International Conference on Smart Textiles
DTSTART;VALUE=DATE:20260630
DTEND;VALUE=DATE:20260701
LOCATION:Sevilla\, İspanya
DESCRIPTION:<p>Akıllı tekstiller\, giyilebilir teknolojiler</p>
END:VEVENT
END:VCALENDAR
