BEGIN:VCALENDAR
VERSION:2.0
PRODID:-//Tekstilci//Etkinlikler//TR
CALSCALE:GREGORIAN
METHOD:PUBLISH
BEGIN:VEVENT
UID:20495@www.tekstilcirehberi.com
DTSTAMP:20260419T173500Z
SUMMARY:PREMIERE VISION PARIS (MANUFACTURING) 2026-2
DTSTART;VALUE=DATE:20260901
DTEND;VALUE=DATE:20260904
LOCATION:Paris\, Fransa
DESCRIPTION:<p>TEKSTİL\, KONFEKSİYON\, HAZIR GİYİM\, DERİ VE TEKNOLOJİLERİ</p>
END:VEVENT
END:VCALENDAR
