BEGIN:VCALENDAR
VERSION:2.0
PRODID:-//Tekstilci//Etkinlikler//TR
CALSCALE:GREGORIAN
METHOD:PUBLISH
BEGIN:VEVENT
UID:20503@www.tekstilcirehberi.com
DTSTAMP:20260420T000304Z
SUMMARY:MUNİCH FABRIC START 2026-2
DTSTART;VALUE=DATE:20260714
DTEND;VALUE=DATE:20260717
LOCATION:Münih\, Almanya
DESCRIPTION:<p>Tekstil\, Konfeksiyon\, Hazır Giyim\, Deri ve Teknolojileri</p>
END:VEVENT
END:VCALENDAR
