BEGIN:VCALENDAR
VERSION:2.0
PRODID:-//Tekstilci//Etkinlikler//TR
CALSCALE:GREGORIAN
METHOD:PUBLISH
BEGIN:VEVENT
UID:20504@www.tekstilcirehberi.com
DTSTAMP:20260420T014358Z
SUMMARY:MAGIC LAS VEGAS 2026-2
DTSTART;VALUE=DATE:20260810
DTEND;VALUE=DATE:20260813
LOCATION:Las Vegas\, ABD
DESCRIPTION:<p>Tekstil\, Konfeksiyon\, Hazır Giyim\, Deri ve Teknolojileri</p>
END:VEVENT
END:VCALENDAR
