BEGIN:VCALENDAR
VERSION:2.0
PRODID:-//Tekstilci//Etkinlikler//TR
CALSCALE:GREGORIAN
METHOD:PUBLISH
BEGIN:VEVENT
UID:20505@www.tekstilcirehberi.com
DTSTAMP:20260419T175646Z
SUMMARY:INTERTEXTILE SHANGHAI APPAREL FABRICS 2026-2
DTSTART;VALUE=DATE:20260825
DTEND;VALUE=DATE:20260828
LOCATION:Şangay\, Çin
DESCRIPTION:<p>Tekstil\, Konfeksiyon\, Hazır Giyim\, Deri ve Teknolojileri</p>
END:VEVENT
END:VCALENDAR
