BEGIN:VCALENDAR
VERSION:2.0
PRODID:-//Tekstilci//Etkinlikler//TR
CALSCALE:GREGORIAN
METHOD:PUBLISH
BEGIN:VEVENT
UID:20509@www.tekstilcirehberi.com
DTSTAMP:20260419T203406Z
SUMMARY:TAFMEX &#8211\; SURİYE ULUSLARARASI HAZIR GİYİM &#038\; TEKSTİL FUARI
DTSTART;VALUE=DATE:20260701
DTEND;VALUE=DATE:20260704
LOCATION:Şam\, Suriye
DESCRIPTION:<p>Tekstil\, Konfeksiyon\, Hazır Giyim\, Deri ve Teknolojileri</p>
END:VEVENT
END:VCALENDAR
