BEGIN:VCALENDAR
VERSION:2.0
PRODID:-//Tekstilci//Etkinlikler//TR
CALSCALE:GREGORIAN
METHOD:PUBLISH
BEGIN:VEVENT
UID:20511@www.tekstilcirehberi.com
DTSTAMP:20260419T235712Z
SUMMARY:THE LONDON TEXTILE FAIR 2026-2
DTSTART;VALUE=DATE:20260714
DTEND;VALUE=DATE:20260716
LOCATION:Londra\, İngiltere
DESCRIPTION:<p>TEKSTİL\, KONFEKSİYON\, HAZIR GİYİM\, DERİ VE TEKNOLOJİLERİ</p>
END:VEVENT
END:VCALENDAR
