BEGIN:VCALENDAR
VERSION:2.0
PRODID:-//Tekstilci//Etkinlikler//TR
CALSCALE:GREGORIAN
METHOD:PUBLISH
BEGIN:VEVENT
UID:20526@www.tekstilcirehberi.com
DTSTAMP:20260419T122252Z
SUMMARY:DOMOTEX ASIA/CHINAFLOOR 2026
DTSTART;VALUE=DATE:20260527
DTEND;VALUE=DATE:20260530
LOCATION:Şangay\, Çin
DESCRIPTION:<p>Ev Tekstili ve Ev Eşyaları</p>
END:VEVENT
END:VCALENDAR
