BEGIN:VCALENDAR
VERSION:2.0
PRODID:-//Tekstilci//Etkinlikler//TR
CALSCALE:GREGORIAN
METHOD:PUBLISH
BEGIN:VEVENT
UID:20527@www.tekstilcirehberi.com
DTSTAMP:20260419T135154Z
SUMMARY:TURKMEN TEXTILE EXPO 2026
DTSTART;VALUE=DATE:20260604
DTEND;VALUE=DATE:20260607
LOCATION:Aşkabat\, Türkmenistan
DESCRIPTION:<p>Tekstil\, konfeksiyon\, hazır giyim\, deri ve deri teknolojileri</p>
END:VEVENT
END:VCALENDAR
