BEGIN:VCALENDAR
VERSION:2.0
PRODID:-//Tekstilci//Etkinlikler//TR
CALSCALE:GREGORIAN
METHOD:PUBLISH
BEGIN:VEVENT
UID:20529@www.tekstilcirehberi.com
DTSTAMP:20260419T153659Z
SUMMARY:EDITION SPECIALE BY LUXE PACK 2026
DTSTART;VALUE=DATE:20260617
DTEND;VALUE=DATE:20260619
LOCATION:Paris\, Fransa
DESCRIPTION:<p>TEKSTİL\, KONFEKSİYON</p>
END:VEVENT
END:VCALENDAR
