BEGIN:VCALENDAR
VERSION:2.0
PRODID:-//Tekstilci//Etkinlikler//TR
CALSCALE:GREGORIAN
METHOD:PUBLISH
BEGIN:VEVENT
UID:20530@www.tekstilcirehberi.com
DTSTAMP:20260419T171927Z
SUMMARY:WHITE RESORT 2026
DTSTART;VALUE=DATE:20260620
DTEND;VALUE=DATE:20260623
LOCATION:Milano\, İtalya
DESCRIPTION:<p>Tekstil\, Konfeksiyon ve Hazır Giyim</p>
END:VEVENT
END:VCALENDAR
