BEGIN:VCALENDAR
VERSION:2.0
PRODID:-//Tekstilci//Etkinlikler//TR
CALSCALE:GREGORIAN
METHOD:PUBLISH
BEGIN:VEVENT
UID:20531@www.tekstilcirehberi.com
DTSTAMP:20260419T172245Z
SUMMARY:MOROCCO TEXTILE TECHNOLOGIES EXPO by STITCH&#038\;TEX
DTSTART;VALUE=DATE:20260623
DTEND;VALUE=DATE:20260626
LOCATION:Kazablanka\, Fas
DESCRIPTION:<p>Tekstil\,Konfeksiyon\, Hazır Giyim\, Deri ve Teknolojileri</p>
END:VEVENT
END:VCALENDAR
