BEGIN:VCALENDAR
VERSION:2.0
PRODID:-//Tekstilci//Etkinlikler//TR
CALSCALE:GREGORIAN
METHOD:PUBLISH
BEGIN:VEVENT
UID:20533@www.tekstilcirehberi.com
DTSTAMP:20260419T185625Z
SUMMARY:TEXTILES RECYCLING EXPO EUROPE 2026
DTSTART;VALUE=DATE:20260624
DTEND;VALUE=DATE:20260626
LOCATION:Brüksel\, Belçika
DESCRIPTION:<p>Tekstil atıklarının geri dönüşümü\,  ilgili  makine ve yedek parçaları</p>
END:VEVENT
END:VCALENDAR
