BEGIN:VCALENDAR
VERSION:2.0
PRODID:-//Tekstilci//Etkinlikler//TR
CALSCALE:GREGORIAN
METHOD:PUBLISH
BEGIN:VEVENT
UID:20534@www.tekstilcirehberi.com
DTSTAMP:20260419T174245Z
SUMMARY:DENIM AND JEANS VIET NAM
DTSTART;VALUE=DATE:20260625
DTEND;VALUE=DATE:20260627
LOCATION:Ho chi Minh\, Vietnam
DESCRIPTION:<p>Tekstil\, Konfeksiyon\, Hazır Giyim\, Deri ve Teknolojileri</p>
END:VEVENT
END:VCALENDAR
