BEGIN:VCALENDAR
VERSION:2.0
PRODID:-//Tekstilci//Etkinlikler//TR
CALSCALE:GREGORIAN
METHOD:PUBLISH
BEGIN:VEVENT
UID:20540@www.tekstilcirehberi.com
DTSTAMP:20260420T014056Z
SUMMARY:TASHKENT FASHION &#038\; TEXTILE EXPO-2
DTSTART;VALUE=DATE:20260719
DTEND;VALUE=DATE:20260722
LOCATION:Taşkent\, Özbekistan
DESCRIPTION:<p>Moda Giyim\, Hazır Giysi\, Deri\, Kürk\, Ayakkabı &#038\; Aksesuarlar</p>
END:VEVENT
END:VCALENDAR
